Package: VectraPolarisData Version: 1.15.0 Command: /home/biocbuild/bbs-3.23-bioc/R/bin/R CMD build --keep-empty-dirs --no-resave-data VectraPolarisData StartedAt: 2025-10-30 11:43:31 -0400 (Thu, 30 Oct 2025) EndedAt: 2025-10-30 11:45:09 -0400 (Thu, 30 Oct 2025) EllapsedTime: 97.6 seconds RetCode: 0 Status: OK PackageFile: VectraPolarisData_1.15.0.tar.gz PackageFileSize: 794.1 KiB