Package: TumourMethData Version: 1.9.0 Command: /home/biocbuild/bbs-3.23-bioc/R/bin/R CMD INSTALL TumourMethData StartedAt: 2025-11-20 10:58:17 -0500 (Thu, 20 Nov 2025) EndedAt: 2025-11-20 10:58:45 -0500 (Thu, 20 Nov 2025) EllapsedTime: 27.5 seconds RetCode: 0 Status: OK