Package: TumourMethData Version: 1.9.0 Command: /home/biocbuild/bbs-3.23-bioc/R/bin/R CMD build --keep-empty-dirs --no-resave-data TumourMethData StartedAt: 2025-11-20 11:49:29 -0500 (Thu, 20 Nov 2025) EndedAt: 2025-11-20 11:50:13 -0500 (Thu, 20 Nov 2025) EllapsedTime: 43.8 seconds RetCode: 0 Status: OK PackageFile: TumourMethData_1.9.0.tar.gz PackageFileSize: 20.68 KiB