Package: TransOmicsData Version: 1.7.0 Command: /home/biocbuild/bbs-3.23-bioc/R/bin/R CMD INSTALL TransOmicsData StartedAt: 2025-11-11 10:56:33 -0500 (Tue, 11 Nov 2025) EndedAt: 2025-11-11 10:56:37 -0500 (Tue, 11 Nov 2025) EllapsedTime: 3.7 seconds RetCode: 0 Status: OK