Package: TransOmicsData Version: 1.7.0 Command: /home/biocbuild/bbs-3.23-bioc/R/bin/R CMD check --install=check:TransOmicsData.install-out.txt --library=/home/biocbuild/bbs-3.23-bioc/R/site-library --timings TransOmicsData_1.7.0.tar.gz StartedAt: 2025-11-06 13:11:24 -0500 (Thu, 06 Nov 2025) EndedAt: 2025-11-06 13:12:05 -0500 (Thu, 06 Nov 2025) EllapsedTime: 40.9 seconds RetCode: 0 Status: OK CheckDir: TransOmicsData.Rcheck Warnings: 0