Package: TimerQuant Version: 1.41.0 Command: /home/biocbuild/bbs-3.23-bioc/R/bin/R CMD build --keep-empty-dirs --no-resave-data TimerQuant StartedAt: 2025-10-30 11:42:12 -0400 (Thu, 30 Oct 2025) EndedAt: 2025-10-30 11:42:22 -0400 (Thu, 30 Oct 2025) EllapsedTime: 10.6 seconds RetCode: 1 Status: ERROR PackageFile: None PackageFileSize: NA