Package: TargetSearchData Version: 1.49.0 Command: /home/biocbuild/bbs-3.23-bioc/R/bin/R CMD check --install=check:TargetSearchData.install-out.txt --library=/home/biocbuild/bbs-3.23-bioc/R/site-library --timings TargetSearchData_1.49.0.tar.gz StartedAt: 2025-11-06 13:04:55 -0500 (Thu, 06 Nov 2025) EndedAt: 2025-11-06 13:05:17 -0500 (Thu, 06 Nov 2025) EllapsedTime: 22.0 seconds RetCode: 0 Status: OK CheckDir: TargetSearchData.Rcheck Warnings: 0