Package: TargetSearchData Version: 1.49.0 Command: /home/biocbuild/bbs-3.23-bioc/R/bin/R CMD build --keep-empty-dirs --no-resave-data TargetSearchData StartedAt: 2025-11-06 11:44:24 -0500 (Thu, 06 Nov 2025) EndedAt: 2025-11-06 11:44:52 -0500 (Thu, 06 Nov 2025) EllapsedTime: 28.4 seconds RetCode: 0 Status: OK PackageFile: TargetSearchData_1.49.0.tar.gz PackageFileSize: 29.86 MiB