Package: TabulaMurisData Version: 1.29.0 Command: /home/biocbuild/bbs-3.23-bioc/R/bin/R CMD INSTALL TabulaMurisData StartedAt: 2025-10-30 10:57:31 -0400 (Thu, 30 Oct 2025) EndedAt: 2025-10-30 10:57:45 -0400 (Thu, 30 Oct 2025) EllapsedTime: 13.7 seconds RetCode: 0 Status: OK