Package: TabulaMurisData Version: 1.29.0 Command: /home/biocbuild/bbs-3.23-bioc/R/bin/R CMD build --keep-empty-dirs --no-resave-data TabulaMurisData StartedAt: 2025-10-30 11:39:46 -0400 (Thu, 30 Oct 2025) EndedAt: 2025-10-30 11:40:37 -0400 (Thu, 30 Oct 2025) EllapsedTime: 50.7 seconds RetCode: 0 Status: OK PackageFile: TabulaMurisData_1.29.0.tar.gz PackageFileSize: 220 KiB