Package: TMExplorer Version: 1.21.0 Command: /home/biocbuild/bbs-3.23-bioc/R/bin/R CMD INSTALL TMExplorer StartedAt: 2025-10-30 10:59:46 -0400 (Thu, 30 Oct 2025) EndedAt: 2025-10-30 11:00:10 -0400 (Thu, 30 Oct 2025) EllapsedTime: 24.5 seconds RetCode: 0 Status: OK