Package: TMExplorer Version: 1.21.0 Command: /home/biocbuild/bbs-3.23-bioc/R/bin/R CMD check --install=check:TMExplorer.install-out.txt --library=/home/biocbuild/bbs-3.23-bioc/R/site-library --timings TMExplorer_1.21.0.tar.gz StartedAt: 2025-11-04 13:05:41 -0500 (Tue, 04 Nov 2025) EndedAt: 2025-11-04 13:15:55 -0500 (Tue, 04 Nov 2025) EllapsedTime: 614.2 seconds RetCode: 0 Status: OK CheckDir: TMExplorer.Rcheck Warnings: 0