Package: TENxVisiumData Version: 1.19.0 Command: /home/biocbuild/bbs-3.23-bioc/R/bin/R CMD build --keep-empty-dirs --no-resave-data TENxVisiumData StartedAt: 2025-10-30 11:41:22 -0400 (Thu, 30 Oct 2025) EndedAt: 2025-10-30 11:42:20 -0400 (Thu, 30 Oct 2025) EllapsedTime: 57.9 seconds RetCode: 0 Status: OK PackageFile: TENxVisiumData_1.19.0.tar.gz PackageFileSize: 299.4 KiB