Package: TENxPBMCData Version: 1.29.0 Command: /home/biocbuild/bbs-3.23-bioc/R/bin/R CMD build --keep-empty-dirs --no-resave-data TENxPBMCData StartedAt: 2025-10-30 11:41:19 -0400 (Thu, 30 Oct 2025) EndedAt: 2025-10-30 11:42:11 -0400 (Thu, 30 Oct 2025) EllapsedTime: 51.9 seconds RetCode: 0 Status: OK PackageFile: TENxPBMCData_1.29.0.tar.gz PackageFileSize: 299.6 KiB