Package: TENxBrainData Version: 1.31.0 Command: /home/biocbuild/bbs-3.23-bioc/R/bin/R CMD check --install=check:TENxBrainData.install-out.txt --library=/home/biocbuild/bbs-3.23-bioc/R/site-library --timings TENxBrainData_1.31.0.tar.gz StartedAt: 2025-11-13 13:13:45 -0500 (Thu, 13 Nov 2025) EndedAt: 2025-11-13 13:20:04 -0500 (Thu, 13 Nov 2025) EllapsedTime: 378.1 seconds RetCode: 0 Status: OK CheckDir: TENxBrainData.Rcheck Warnings: 0