Package: TCGAcrcmiRNA Version: 1.31.0 Command: /home/biocbuild/bbs-3.23-bioc/R/bin/R CMD INSTALL TCGAcrcmiRNA StartedAt: 2025-10-30 10:56:20 -0400 (Thu, 30 Oct 2025) EndedAt: 2025-10-30 10:56:23 -0400 (Thu, 30 Oct 2025) EllapsedTime: 3.1 seconds RetCode: 0 Status: OK