Package: TCGAcrcmiRNA Version: 1.31.0 Command: /home/biocbuild/bbs-3.23-bioc/R/bin/R CMD build --keep-empty-dirs --no-resave-data TCGAcrcmiRNA StartedAt: 2025-10-30 11:40:56 -0400 (Thu, 30 Oct 2025) EndedAt: 2025-10-30 11:41:02 -0400 (Thu, 30 Oct 2025) EllapsedTime: 5.7 seconds RetCode: 0 Status: OK PackageFile: TCGAcrcmiRNA_1.31.0.tar.gz PackageFileSize: 925.1 KiB