Package: TCGAcrcmRNA Version: 1.31.0 Command: /home/biocbuild/bbs-3.23-bioc/R/bin/R CMD build --keep-empty-dirs --no-resave-data TCGAcrcmRNA StartedAt: 2025-10-30 11:40:58 -0400 (Thu, 30 Oct 2025) EndedAt: 2025-10-30 11:41:08 -0400 (Thu, 30 Oct 2025) EllapsedTime: 10.0 seconds RetCode: 0 Status: OK PackageFile: TCGAcrcmRNA_1.31.0.tar.gz PackageFileSize: 35.3 MiB