Package: TCGAbiolinksGUI.data Version: 1.31.0 Command: /home/biocbuild/bbs-3.23-bioc/R/bin/R CMD check --install=check:TCGAbiolinksGUI.data.install-out.txt --library=/home/biocbuild/bbs-3.23-bioc/R/site-library --timings TCGAbiolinksGUI.data_1.31.0.tar.gz StartedAt: 2025-11-06 13:05:28 -0500 (Thu, 06 Nov 2025) EndedAt: 2025-11-06 13:08:57 -0500 (Thu, 06 Nov 2025) EllapsedTime: 208.9 seconds RetCode: 0 Status: WARNINGS CheckDir: TCGAbiolinksGUI.data.Rcheck Warnings: 1