Package: TCGAWorkflowData Version: 1.35.0 Command: /home/biocbuild/bbs-3.23-bioc/R/bin/R CMD INSTALL TCGAWorkflowData StartedAt: 2025-10-30 11:03:27 -0400 (Thu, 30 Oct 2025) EndedAt: 2025-10-30 11:04:28 -0400 (Thu, 30 Oct 2025) EllapsedTime: 61.2 seconds RetCode: 0 Status: OK