Package: TCGAWorkflowData Version: 1.35.0 Command: /home/biocbuild/bbs-3.23-bioc/R/bin/R CMD build --keep-empty-dirs --no-resave-data TCGAWorkflowData StartedAt: 2025-10-30 11:41:02 -0400 (Thu, 30 Oct 2025) EndedAt: 2025-10-30 11:43:31 -0400 (Thu, 30 Oct 2025) EllapsedTime: 148.8 seconds RetCode: 0 Status: OK PackageFile: TCGAWorkflowData_1.35.0.tar.gz PackageFileSize: 68.83 MiB