Package: SpikeInSubset Version: 1.51.0 Command: /home/biocbuild/bbs-3.23-bioc/R/bin/R CMD INSTALL SpikeInSubset StartedAt: 2025-11-27 10:56:15 -0500 (Thu, 27 Nov 2025) EndedAt: 2025-11-27 10:56:20 -0500 (Thu, 27 Nov 2025) EllapsedTime: 5.1 seconds RetCode: 0 Status: OK