Package: SomaticCancerAlterations Version: 1.47.0 Command: /home/biocbuild/bbs-3.23-bioc/R/bin/R CMD build --keep-empty-dirs --no-resave-data SomaticCancerAlterations StartedAt: 2025-11-20 11:44:34 -0500 (Thu, 20 Nov 2025) EndedAt: 2025-11-20 11:45:00 -0500 (Thu, 20 Nov 2025) EllapsedTime: 26.4 seconds RetCode: 0 Status: OK PackageFile: SomaticCancerAlterations_1.47.0.tar.gz PackageFileSize: 4.442 MiB