Package: SingleMoleculeFootprintingData Version: 1.19.0 Command: /home/biocbuild/bbs-3.23-bioc/R/bin/R CMD INSTALL SingleMoleculeFootprintingData StartedAt: 2025-11-20 10:57:23 -0500 (Thu, 20 Nov 2025) EndedAt: 2025-11-20 10:57:33 -0500 (Thu, 20 Nov 2025) EllapsedTime: 9.6 seconds RetCode: 0 Status: OK