Package: SingleCellMultiModal Version: 1.23.0 Command: /home/biocbuild/bbs-3.23-bioc/R/bin/R CMD check --install=check:SingleCellMultiModal.install-out.txt --library=/home/biocbuild/bbs-3.23-bioc/R/site-library --timings SingleCellMultiModal_1.23.0.tar.gz StartedAt: 2025-11-06 13:00:56 -0500 (Thu, 06 Nov 2025) EndedAt: 2025-11-06 13:12:01 -0500 (Thu, 06 Nov 2025) EllapsedTime: 665.3 seconds RetCode: 0 Status: OK CheckDir: SingleCellMultiModal.Rcheck Warnings: 0