Package: SimBenchData Version: 1.19.0 Command: /home/biocbuild/bbs-3.23-bioc/R/bin/R CMD INSTALL SimBenchData StartedAt: 2025-10-30 10:57:39 -0400 (Thu, 30 Oct 2025) EndedAt: 2025-10-30 10:57:52 -0400 (Thu, 30 Oct 2025) EllapsedTime: 13.5 seconds RetCode: 0 Status: OK