Package: SimBenchData Version: 1.19.0 Command: /home/biocbuild/bbs-3.23-bioc/R/bin/R CMD check --install=check:SimBenchData.install-out.txt --library=/home/biocbuild/bbs-3.23-bioc/R/site-library --timings SimBenchData_1.19.0.tar.gz StartedAt: 2025-10-30 12:46:01 -0400 (Thu, 30 Oct 2025) EndedAt: 2025-10-30 12:47:05 -0400 (Thu, 30 Oct 2025) EllapsedTime: 64.6 seconds RetCode: 0 Status: OK CheckDir: SimBenchData.Rcheck Warnings: 0