Package: SimBenchData Version: 1.19.0 Command: /home/biocbuild/bbs-3.23-bioc/R/bin/R CMD build --keep-empty-dirs --no-resave-data SimBenchData StartedAt: 2025-10-30 11:38:27 -0400 (Thu, 30 Oct 2025) EndedAt: 2025-10-30 11:38:48 -0400 (Thu, 30 Oct 2025) EllapsedTime: 21.4 seconds RetCode: 0 Status: OK PackageFile: SimBenchData_1.19.0.tar.gz PackageFileSize: 236 KiB