Package: SVM2CRMdata Version: 1.43.0 Command: /home/biocbuild/bbs-3.23-bioc/R/bin/R CMD build --keep-empty-dirs --no-resave-data SVM2CRMdata StartedAt: 2025-11-13 11:44:20 -0500 (Thu, 13 Nov 2025) EndedAt: 2025-11-13 11:47:44 -0500 (Thu, 13 Nov 2025) EllapsedTime: 203.8 seconds RetCode: 0 Status: OK PackageFile: SVM2CRMdata_1.43.0.tar.gz PackageFileSize: 345 MiB