Package: STexampleData Version: 1.19.0 Command: /home/biocbuild/bbs-3.23-bioc/R/bin/R CMD build --keep-empty-dirs --no-resave-data STexampleData StartedAt: 2025-10-30 11:39:27 -0400 (Thu, 30 Oct 2025) EndedAt: 2025-10-30 11:41:03 -0400 (Thu, 30 Oct 2025) EllapsedTime: 96.2 seconds RetCode: 0 Status: OK PackageFile: STexampleData_1.19.0.tar.gz PackageFileSize: 611.3 KiB