Package: SNPhoodData Version: 1.41.0 Command: /home/biocbuild/bbs-3.23-bioc/R/bin/R CMD INSTALL SNPhoodData StartedAt: 2025-10-30 10:55:43 -0400 (Thu, 30 Oct 2025) EndedAt: 2025-10-30 10:55:45 -0400 (Thu, 30 Oct 2025) EllapsedTime: 2.1 seconds RetCode: 0 Status: OK