Package: SNPhoodData Version: 1.41.0 Command: /home/biocbuild/bbs-3.23-bioc/R/bin/R CMD check --install=check:SNPhoodData.install-out.txt --library=/home/biocbuild/bbs-3.23-bioc/R/site-library --timings SNPhoodData_1.41.0.tar.gz StartedAt: 2025-10-30 12:47:18 -0400 (Thu, 30 Oct 2025) EndedAt: 2025-10-30 12:47:46 -0400 (Thu, 30 Oct 2025) EllapsedTime: 27.6 seconds RetCode: 0 Status: OK CheckDir: SNPhoodData.Rcheck Warnings: 0