Package: SNAGEEdata Version: 1.47.0 Command: /home/biocbuild/bbs-3.23-bioc/R/bin/R CMD INSTALL SNAGEEdata StartedAt: 2025-10-30 10:57:49 -0400 (Thu, 30 Oct 2025) EndedAt: 2025-10-30 10:57:51 -0400 (Thu, 30 Oct 2025) EllapsedTime: 1.5 seconds RetCode: 0 Status: OK