Package: SCLCBam Version: 1.43.0 Command: /home/biocbuild/bbs-3.23-bioc/R/bin/R CMD check --install=check:SCLCBam.install-out.txt --library=/home/biocbuild/bbs-3.23-bioc/R/site-library --timings SCLCBam_1.43.0.tar.gz StartedAt: 2025-10-30 12:44:01 -0400 (Thu, 30 Oct 2025) EndedAt: 2025-10-30 12:44:20 -0400 (Thu, 30 Oct 2025) EllapsedTime: 19.0 seconds RetCode: 0 Status: OK CheckDir: SCLCBam.Rcheck Warnings: 0