Package: SCLCBam Version: 1.43.0 Command: /home/biocbuild/bbs-3.23-bioc/R/bin/R CMD build --keep-empty-dirs --no-resave-data SCLCBam StartedAt: 2025-10-30 11:36:48 -0400 (Thu, 30 Oct 2025) EndedAt: 2025-10-30 11:36:57 -0400 (Thu, 30 Oct 2025) EllapsedTime: 8.3 seconds RetCode: 0 Status: OK PackageFile: SCLCBam_1.43.0.tar.gz PackageFileSize: 57.84 MiB