Package: RnBeads.rn5 Version: 1.43.0 Command: /home/biocbuild/bbs-3.23-bioc/R/bin/R CMD check --install=check:RnBeads.rn5.install-out.txt --library=/home/biocbuild/bbs-3.23-bioc/R/site-library --timings RnBeads.rn5_1.43.0.tar.gz StartedAt: 2025-10-30 12:39:55 -0400 (Thu, 30 Oct 2025) EndedAt: 2025-10-30 12:40:05 -0400 (Thu, 30 Oct 2025) EllapsedTime: 10.0 seconds RetCode: 1 Status: ERROR CheckDir: RnBeads.rn5.Rcheck Warnings: NA