Package: RnBeads.mm10 Version: 2.19.0 Command: /home/biocbuild/bbs-3.23-bioc/R/bin/R CMD check --install=check:RnBeads.mm10.install-out.txt --library=/home/biocbuild/bbs-3.23-bioc/R/site-library --timings RnBeads.mm10_2.19.0.tar.gz StartedAt: 2025-10-30 12:39:44 -0400 (Thu, 30 Oct 2025) EndedAt: 2025-10-30 12:39:58 -0400 (Thu, 30 Oct 2025) EllapsedTime: 13.7 seconds RetCode: 1 Status: ERROR CheckDir: RnBeads.mm10.Rcheck Warnings: NA