Package: RnBeads.hg38 Version: 1.43.0 Command: /home/biocbuild/bbs-3.23-bioc/R/bin/R CMD check --install=check:RnBeads.hg38.install-out.txt --library=/home/biocbuild/bbs-3.23-bioc/R/site-library --timings RnBeads.hg38_1.43.0.tar.gz StartedAt: 2025-10-30 12:39:37 -0400 (Thu, 30 Oct 2025) EndedAt: 2025-10-30 12:39:58 -0400 (Thu, 30 Oct 2025) EllapsedTime: 21.3 seconds RetCode: 1 Status: ERROR CheckDir: RnBeads.hg38.Rcheck Warnings: NA