Package: RforProteomics Version: 1.49.0 Command: /home/biocbuild/bbs-3.23-bioc/R/bin/R CMD INSTALL RforProteomics StartedAt: 2025-10-30 11:00:23 -0400 (Thu, 30 Oct 2025) EndedAt: 2025-10-30 11:00:59 -0400 (Thu, 30 Oct 2025) EllapsedTime: 36.8 seconds RetCode: 0 Status: OK