Package: RforProteomics Version: 1.49.0 Command: /home/biocbuild/bbs-3.23-bioc/R/bin/R CMD build --keep-empty-dirs --no-resave-data RforProteomics StartedAt: 2025-10-30 11:33:20 -0400 (Thu, 30 Oct 2025) EndedAt: 2025-10-30 11:39:29 -0400 (Thu, 30 Oct 2025) EllapsedTime: 369.3 seconds RetCode: 0 Status: OK PackageFile: RforProteomics_1.49.0.tar.gz PackageFileSize: 9.159 MiB