Package: RegParallel Version: 1.29.0 Command: /home/biocbuild/bbs-3.23-bioc/R/bin/R CMD INSTALL RegParallel StartedAt: 2025-10-30 11:03:42 -0400 (Thu, 30 Oct 2025) EndedAt: 2025-10-30 11:03:50 -0400 (Thu, 30 Oct 2025) EllapsedTime: 8.1 seconds RetCode: 0 Status: OK