Package: RegParallel Version: 1.29.0 Command: /home/biocbuild/bbs-3.23-bioc/R/bin/R CMD build --keep-empty-dirs --no-resave-data RegParallel StartedAt: 2025-10-30 11:33:06 -0400 (Thu, 30 Oct 2025) EndedAt: 2025-10-30 11:39:46 -0400 (Thu, 30 Oct 2025) EllapsedTime: 399.9 seconds RetCode: 0 Status: OK PackageFile: RegParallel_1.29.0.tar.gz PackageFileSize: 643.5 KiB