Package: ReactomeGSA.data Version: 1.25.0 Command: /home/biocbuild/bbs-3.23-bioc/R/bin/R CMD INSTALL ReactomeGSA.data StartedAt: 2025-10-30 11:03:08 -0400 (Thu, 30 Oct 2025) EndedAt: 2025-10-30 11:03:27 -0400 (Thu, 30 Oct 2025) EllapsedTime: 19.1 seconds RetCode: 0 Status: OK