Package: ReactomeGSA.data Version: 1.25.0 Command: /home/biocbuild/bbs-3.23-bioc/R/bin/R CMD build --keep-empty-dirs --no-resave-data ReactomeGSA.data StartedAt: 2025-10-30 11:33:05 -0400 (Thu, 30 Oct 2025) EndedAt: 2025-10-30 11:34:27 -0400 (Thu, 30 Oct 2025) EllapsedTime: 81.7 seconds RetCode: 0 Status: OK PackageFile: ReactomeGSA.data_1.25.0.tar.gz PackageFileSize: 23.08 MiB