Package: RcisTarget.hg19.motifDBs.cisbpOnly.500bp Version: 1.31.0 Command: /home/biocbuild/bbs-3.23-bioc/R/bin/R CMD check --install=check:RcisTarget.hg19.motifDBs.cisbpOnly.500bp.install-out.txt --library=/home/biocbuild/bbs-3.23-bioc/R/site-library --timings RcisTarget.hg19.motifDBs.cisbpOnly.500bp_1.31.0.tar.gz StartedAt: 2025-10-30 12:37:34 -0400 (Thu, 30 Oct 2025) EndedAt: 2025-10-30 12:38:11 -0400 (Thu, 30 Oct 2025) EllapsedTime: 36.9 seconds RetCode: 0 Status: WARNINGS CheckDir: RcisTarget.hg19.motifDBs.cisbpOnly.500bp.Rcheck Warnings: 1