Package: RTCGA.miRNASeq Version: 1.39.0 Command: /home/biocbuild/bbs-3.23-bioc/R/bin/R CMD INSTALL RTCGA.miRNASeq StartedAt: 2025-10-30 11:03:46 -0400 (Thu, 30 Oct 2025) EndedAt: 2025-10-30 11:05:33 -0400 (Thu, 30 Oct 2025) EllapsedTime: 107.9 seconds RetCode: 0 Status: OK