Package: RTCGA.miRNASeq Version: 1.39.0 Command: /home/biocbuild/bbs-3.23-bioc/R/bin/R CMD check --install=check:RTCGA.miRNASeq.install-out.txt --library=/home/biocbuild/bbs-3.23-bioc/R/site-library --timings RTCGA.miRNASeq_1.39.0.tar.gz StartedAt: 2025-10-30 12:40:17 -0400 (Thu, 30 Oct 2025) EndedAt: 2025-10-30 12:43:06 -0400 (Thu, 30 Oct 2025) EllapsedTime: 169.7 seconds RetCode: 0 Status: WARNINGS CheckDir: RTCGA.miRNASeq.Rcheck Warnings: 1