Package: RTCGA.miRNASeq Version: 1.39.0 Command: /home/biocbuild/bbs-3.23-bioc/R/bin/R CMD build --keep-empty-dirs --no-resave-data RTCGA.miRNASeq StartedAt: 2025-10-30 11:34:54 -0400 (Thu, 30 Oct 2025) EndedAt: 2025-10-30 11:36:48 -0400 (Thu, 30 Oct 2025) EllapsedTime: 114.1 seconds RetCode: 0 Status: OK PackageFile: RTCGA.miRNASeq_1.39.0.tar.gz PackageFileSize: 45.24 MiB