Package: RTCGA.clinical Version: 20151101.41.0 Command: /home/biocbuild/bbs-3.23-bioc/R/bin/R CMD INSTALL RTCGA.clinical StartedAt: 2025-10-30 11:03:50 -0400 (Thu, 30 Oct 2025) EndedAt: 2025-10-30 11:04:32 -0400 (Thu, 30 Oct 2025) EllapsedTime: 42.1 seconds RetCode: 0 Status: OK