Package: RTCGA.clinical Version: 20151101.41.0 Command: /home/biocbuild/bbs-3.23-bioc/R/bin/R CMD build --keep-empty-dirs --no-resave-data RTCGA.clinical StartedAt: 2025-10-30 11:34:36 -0400 (Thu, 30 Oct 2025) EndedAt: 2025-10-30 11:35:21 -0400 (Thu, 30 Oct 2025) EllapsedTime: 45.5 seconds RetCode: 0 Status: OK PackageFile: RTCGA.clinical_20151101.41.0.tar.gz PackageFileSize: 13.97 MiB